﻿BEGIN:VCALENDAR
VERSION:2.0
PRODID:-//wp-events-plugin.com//7.2.3.1//EN
TZID:Europe/Berlin
X-WR-TIMEZONE:Europe/Berlin
BEGIN:VEVENT
UID:3185@lkg-falkenstein.de
DTSTART;TZID=Europe/Berlin:20241116T190000
DTEND;TZID=Europe/Berlin:20241116T210000
DTSTAMP:20241114T160043Z
URL:https://lkg-falkenstein.de/events/segnungsabend-3/
SUMMARY:Segnungsabend
DESCRIPTION:Hallo liebe Freunde &amp\; Jesus-Nachfolger\,\n\nwir möchten e
 uch wieder ganz herzlich einladen zu unserem letzten Segnungsabend in dies
 em Jahr. Am Samstag den 16.11. um 19.00Uhr in die Landeskirchliche Gemeins
 chaft in Falkenstein.\n\nZurzeit gibt es gefühlt mehr Grau als Sonne\, be
 im Wetter\, in Politik und Weltgeschehen\, im Wirtschaftlichen und vieler
 orts auch im Privaten. Wir wollen jedoch den Blick auf Jesus richten\, auf
  den der über all diesen Dingen steht und der unser Leben segnen will. Du
 rch seinen Heiligen Geist gibt uns Gott der Vater Hoffnung\, Trost\, ermut
 igt uns\, schenkt neue Kraft\, lässt uns die Probleme aus seiner Sicht se
 hen\, schenkt Heilung\, ermöglicht Befreiung von Lasten und Gebundenheite
 n\, die uns das Leben schwer machen.\n\nWir bieten wieder an für all die 
 genannten Dinge persönlich beten zu lassen\, um diese Lasten in Gottes G
 egenwart ablegen zu können. Es ist auch Zeit den November-Blues im Lobpre
 is\, Anbetung und im zur Ruhe kommen zu vertreiben. Wir freuen uns auf eue
 r Kommen.\n\nSeid gesegnet mit dem Frieden Gottes! Shalom!\n\nViele Grüß
 e Michael Enghardt &amp\; das das Segnungsabendteam der LKG Falkenstein
ATTACH;FMTTYPE=image/jpeg:https://lkg-falkenstein.de/wp-content/uploads/20
 24/11/Segnungsabend-2024-11-16.jpg
CATEGORIES:Segnungsabend
LOCATION:LKG Falkenstein großer Saal\, Oelsnitzerstraße 37B\, Falkenstein
 \, Sachsen\, 08223\, Vogtland\, Deutschland
X-APPLE-STRUCTURED-LOCATION;VALUE=URI;X-ADDRESS=Oelsnitzerstraße 37B\, Fal
 kenstein\, Sachsen\, 08223\, Vogtland\, Deutschland;X-APPLE-RADIUS=100;X-T
 ITLE=LKG Falkenstein großer Saal:geo:0,0
END:VEVENT
BEGIN:VTIMEZONE
TZID:Europe/Berlin
X-LIC-LOCATION:Europe/Berlin
BEGIN:STANDARD
DTSTART:20241027T020000
TZOFFSETFROM:+0200
TZOFFSETTO:+0100
TZNAME:CET
END:STANDARD
END:VTIMEZONE
END:VCALENDAR