﻿BEGIN:VCALENDAR
VERSION:2.0
PRODID:-//wp-events-plugin.com//7.2.3.1//EN
TZID:Europe/Berlin
X-WR-TIMEZONE:Europe/Berlin
BEGIN:VEVENT
UID:3452@lkg-falkenstein.de
DTSTART;TZID=Europe/Berlin:20250214T200000
DTEND;TZID=Europe/Berlin:20250214T201500
DTSTAMP:20250127T120620Z
URL:https://lkg-falkenstein.de/events/maennerkreis/
SUMMARY:Männerkreis
DESCRIPTION:
ATTACH;FMTTYPE=image/jpeg:https://lkg-falkenstein.de/wp-content/uploads/20
 17/11/P1020643-scaled.jpg
CATEGORIES:Männerabend
LOCATION:LKG Falkenstein Bibelstunden Raum\, Oelsnitzer Straße 37B\, Falke
 nstein\, Sachsen\, 08223\, Vogtland\, Deutschland
X-APPLE-STRUCTURED-LOCATION;VALUE=URI;X-ADDRESS=Oelsnitzer Straße 37B\, Fa
 lkenstein\, Sachsen\, 08223\, Vogtland\, Deutschland;X-APPLE-RADIUS=100;X-
 TITLE=LKG Falkenstein Bibelstunden Raum:geo:0,0
END:VEVENT
BEGIN:VTIMEZONE
TZID:Europe/Berlin
X-LIC-LOCATION:Europe/Berlin
BEGIN:STANDARD
DTSTART:20241027T020000
TZOFFSETFROM:+0200
TZOFFSETTO:+0100
TZNAME:CET
END:STANDARD
END:VTIMEZONE
END:VCALENDAR