﻿BEGIN:VCALENDAR
VERSION:2.0
PRODID:-//wp-events-plugin.com//7.2.3.1//EN
TZID:Europe/Berlin
X-WR-TIMEZONE:Europe/Berlin
BEGIN:VEVENT
UID:3516@lkg-falkenstein.de
DTSTART;TZID=Europe/Berlin:20251115T193000
DTEND;TZID=Europe/Berlin:20251115T210000
DTSTAMP:20251026T164938Z
URL:https://lkg-falkenstein.de/events/gottesdienst-4-2025-11-16/
SUMMARY:Junge Mittlere Generation
DESCRIPTION:
ATTACH;FMTTYPE=image/jpeg:https://lkg-falkenstein.de/wp-content/uploads/20
 24/04/20210821_112024-scaled.jpg
CATEGORIES:JMG
LOCATION:LKG Falkenstein großer Saal\, Oelsnitzerstraße 37B\, Falkenstein
 \, Sachsen\, 08223\, Vogtland\, Deutschland
X-APPLE-STRUCTURED-LOCATION;VALUE=URI;X-ADDRESS=Oelsnitzerstraße 37B\, Fal
 kenstein\, Sachsen\, 08223\, Vogtland\, Deutschland;X-APPLE-RADIUS=100;X-T
 ITLE=LKG Falkenstein großer Saal:geo:0,0
END:VEVENT
BEGIN:VTIMEZONE
TZID:Europe/Berlin
X-LIC-LOCATION:Europe/Berlin
BEGIN:STANDARD
DTSTART:20251026T020000
TZOFFSETFROM:+0200
TZOFFSETTO:+0100
TZNAME:CET
END:STANDARD
END:VTIMEZONE
END:VCALENDAR