﻿BEGIN:VCALENDAR
VERSION:2.0
PRODID:-//wp-events-plugin.com//7.2.3.1//EN
TZID:Europe/Berlin
X-WR-TIMEZONE:Europe/Berlin
BEGIN:VEVENT
UID:3596@lkg-falkenstein.de
DTSTART;TZID=Europe/Berlin:20251112T150000
DTEND;TZID=Europe/Berlin:20251112T161500
DTSTAMP:20251016T180109Z
URL:https://lkg-falkenstein.de/events/frauenstunde-2-2025-11-12/
SUMMARY:Seniorennachmittag
DESCRIPTION:
ATTACH;FMTTYPE=image/jpeg:https://lkg-falkenstein.de/wp-content/uploads/20
 25/10/Sen-11-2025b-2-scaled.jpg
CATEGORIES:Seniorennachmittag
LOCATION:LKG Falkenstein großer Saal\, Oelsnitzerstraße 37B\, Falkenstein
 \, Sachsen\, 08223\, Vogtland\, Deutschland
X-APPLE-STRUCTURED-LOCATION;VALUE=URI;X-ADDRESS=Oelsnitzerstraße 37B\, Fal
 kenstein\, Sachsen\, 08223\, Vogtland\, Deutschland;X-APPLE-RADIUS=100;X-T
 ITLE=LKG Falkenstein großer Saal:geo:0,0
END:VEVENT
BEGIN:VTIMEZONE
TZID:Europe/Berlin
X-LIC-LOCATION:Europe/Berlin
BEGIN:STANDARD
DTSTART:20251026T020000
TZOFFSETFROM:+0200
TZOFFSETTO:+0100
TZNAME:CET
END:STANDARD
END:VTIMEZONE
END:VCALENDAR