﻿BEGIN:VCALENDAR
VERSION:2.0
PRODID:-//wp-events-plugin.com//7.2.3.1//EN
TZID:Europe/Berlin
X-WR-TIMEZONE:Europe/Berlin
BEGIN:VEVENT
UID:3180@lkg-falkenstein.de
DTSTART;TZID=Europe/Berlin:20241025T200000
DTEND;TZID=Europe/Berlin:20241025T220000
DTSTAMP:20241002T111017Z
URL:https://lkg-falkenstein.de/events/feuerabend/
SUMMARY:Feuerabend
DESCRIPTION:
ATTACH;FMTTYPE=image/jpeg:https://lkg-falkenstein.de/wp-content/uploads/20
 24/10/Feuerabend-2024-1-scaled.jpg
CATEGORIES:Männerabend
LOCATION:Landeskirchliche Gemeinschaft Falkenstein  -  Freigelände\, Oelsn
 itzerstraße 37b\, Falkenstein\, 08223\, Sachsen\, Deutschland
GEO:47.4;1.6
X-APPLE-STRUCTURED-LOCATION;VALUE=URI;X-ADDRESS=Oelsnitzerstraße 37b\, Fal
 kenstein\, 08223\, Sachsen\, Deutschland;X-APPLE-RADIUS=100;X-TITLE=Landes
 kirchliche Gemeinschaft Falkenstein  -  Freigelände:geo:47.4,1.6
END:VEVENT
BEGIN:VTIMEZONE
TZID:Europe/Berlin
X-LIC-LOCATION:Europe/Berlin
BEGIN:DAYLIGHT
DTSTART:20240331T030000
TZOFFSETFROM:+0100
TZOFFSETTO:+0200
TZNAME:CEST
END:DAYLIGHT
END:VTIMEZONE
END:VCALENDAR