﻿BEGIN:VCALENDAR
VERSION:2.0
PRODID:-//wp-events-plugin.com//7.2.3.1//EN
TZID:Europe/Berlin
X-WR-TIMEZONE:Europe/Berlin
BEGIN:VEVENT
UID:3167@lkg-falkenstein.de
DTSTART;TZID=Europe/Berlin:20240525T190000
DTEND;TZID=Europe/Berlin:20240525T234500
DTSTAMP:20240523T093722Z
URL:https://lkg-falkenstein.de/events/direct-line-openair/
SUMMARY:Direct Line - OpenAir
DESCRIPTION:Was ist Direct Line\nDirect Line ist der christliche Jugendaben
 d in Klingenthal (Vogtland)\, bei dem wir euch in unsere Gemeinschaft einl
 aden und die Möglichkeit geben\, uns und unseren Glauben kennenzulernen.\
 n\nDer Name "Direct Line" steht dabei für die direkte Verbindung zu Jesus
 \, er ist der Mittelpunkt unseres Lebens und unserer Veranstaltungen.\nVer
 anstalter\nVeranstaltet wird das Ganze von Jugendlichen aus dem EC und der
  JG Klingenthal. Dadurch ist Direct Line ein gemeindeübergreifendes Proje
 kt und bietet eine Plattform\, um gemeinsam mit den unterschiedlichsten Be
 gabungen an Gottes Reich zu bauen.
ATTACH;FMTTYPE=image/jpeg:https://lkg-falkenstein.de/wp-content/uploads/20
 24/05/IMG_3208.jpeg
CATEGORIES:Jugend
LOCATION:Musikpavillion Klingenthal\, Marktplatz\, Klingenthal\, Sachsen\, 
 08248\, Vogtland\, Deutschland
GEO:50.35794035;12.46848056
X-APPLE-STRUCTURED-LOCATION;VALUE=URI;X-ADDRESS=Marktplatz\, Klingenthal\, 
 Sachsen\, 08248\, Vogtland\, Deutschland;X-APPLE-RADIUS=100;X-TITLE=Musikp
 avillion Klingenthal:geo:50.35794035,12.46848056
END:VEVENT
BEGIN:VTIMEZONE
TZID:Europe/Berlin
X-LIC-LOCATION:Europe/Berlin
BEGIN:DAYLIGHT
DTSTART:20240331T030000
TZOFFSETFROM:+0100
TZOFFSETTO:+0200
TZNAME:CEST
END:DAYLIGHT
END:VTIMEZONE
END:VCALENDAR