﻿BEGIN:VCALENDAR
VERSION:2.0
PRODID:-//wp-events-plugin.com//7.2.3.1//EN
TZID:Europe/Berlin
X-WR-TIMEZONE:Europe/Berlin
BEGIN:VEVENT
UID:3615@lkg-falkenstein.de
DTSTART;TZID=Europe/Berlin:20251115T190000
DTEND;TZID=Europe/Berlin:20251115T210000
DTSTAMP:20251108T100203Z
URL:https://lkg-falkenstein.de/events/bezirksjugendabend/
SUMMARY:Bezirksjugendabend
DESCRIPTION:
ATTACH;FMTTYPE=image/jpeg:https://lkg-falkenstein.de/wp-content/uploads/20
 25/10/20251115_Jugendbend.jpg
CATEGORIES:Jugend
LOCATION:LKG Sützengrün\, Talstrasse 30A\, Stützengrün\, Sachsen\, 0832
 8\, Deutschland
X-APPLE-STRUCTURED-LOCATION;VALUE=URI;X-ADDRESS=Talstrasse 30A\, Stützengr
 ün\, Sachsen\, 08328\, Deutschland;X-APPLE-RADIUS=100;X-TITLE=LKG Sützen
 grün:geo:0,0
END:VEVENT
BEGIN:VTIMEZONE
TZID:Europe/Berlin
X-LIC-LOCATION:Europe/Berlin
BEGIN:STANDARD
DTSTART:20251026T020000
TZOFFSETFROM:+0200
TZOFFSETTO:+0100
TZNAME:CET
END:STANDARD
END:VTIMEZONE
END:VCALENDAR