﻿BEGIN:VCALENDAR
VERSION:2.0
PRODID:-//wp-events-plugin.com//7.2.3.1//EN
TZID:Europe/Berlin
X-WR-TIMEZONE:Europe/Berlin
BEGIN:VEVENT
UID:2969@lkg-falkenstein.de
DTSTART;TZID=Europe/Berlin:20240117T193000
DTEND;TZID=Europe/Berlin:20240117T203000
DTSTAMP:20240102T161627Z
URL:https://lkg-falkenstein.de/events/allianzgebetswoche-4/
SUMMARY:Allianzgebetswoche
DESCRIPTION:Thema: "Gott lädt ein zu umfassender  Freiheit"
ATTACH;FMTTYPE=image/jpeg:https://lkg-falkenstein.de/wp-content/uploads/20
 23/12/allianz1-scaled.jpg
CATEGORIES:Gebetsabend
LOCATION:Rathaus\, Clara Zetkin Str.\, Falkenstein\, Sachsen\, 08223\, Vogt
 land \, Deutschland
X-APPLE-STRUCTURED-LOCATION;VALUE=URI;X-ADDRESS=Clara Zetkin Str.\, Falkens
 tein\, Sachsen\, 08223\, Vogtland \, Deutschland;X-APPLE-RADIUS=100;X-TITL
 E=Rathaus:geo:0,0
END:VEVENT
BEGIN:VTIMEZONE
TZID:Europe/Berlin
X-LIC-LOCATION:Europe/Berlin
BEGIN:STANDARD
DTSTART:20231029T020000
TZOFFSETFROM:+0200
TZOFFSETTO:+0100
TZNAME:CET
END:STANDARD
END:VTIMEZONE
END:VCALENDAR